BEGIN:VCALENDAR
VERSION:2.0
PRODID:-//Förderverein MV Eberhardzell - ECPv6.15.11//NONSGML v1.0//EN
CALSCALE:GREGORIAN
METHOD:PUBLISH
X-WR-CALNAME:Förderverein MV Eberhardzell
X-ORIGINAL-URL:https://www.foerdervereinmve.de
X-WR-CALDESC:Veranstaltungen für Förderverein MV Eberhardzell
REFRESH-INTERVAL;VALUE=DURATION:PT1H
X-Robots-Tag:noindex
X-PUBLISHED-TTL:PT1H
BEGIN:VTIMEZONE
TZID:Europe/Berlin
BEGIN:DAYLIGHT
TZOFFSETFROM:+0100
TZOFFSETTO:+0200
TZNAME:CEST
DTSTART:20230326T010000
END:DAYLIGHT
BEGIN:STANDARD
TZOFFSETFROM:+0200
TZOFFSETTO:+0100
TZNAME:CET
DTSTART:20231029T010000
END:STANDARD
BEGIN:DAYLIGHT
TZOFFSETFROM:+0100
TZOFFSETTO:+0200
TZNAME:CEST
DTSTART:20240331T010000
END:DAYLIGHT
BEGIN:STANDARD
TZOFFSETFROM:+0200
TZOFFSETTO:+0100
TZNAME:CET
DTSTART:20241027T010000
END:STANDARD
BEGIN:DAYLIGHT
TZOFFSETFROM:+0100
TZOFFSETTO:+0200
TZNAME:CEST
DTSTART:20250330T010000
END:DAYLIGHT
BEGIN:STANDARD
TZOFFSETFROM:+0200
TZOFFSETTO:+0100
TZNAME:CET
DTSTART:20251026T010000
END:STANDARD
END:VTIMEZONE
BEGIN:VEVENT
DTSTART;TZID=Europe/Berlin:20240929T080000
DTEND;TZID=Europe/Berlin:20240929T170000
DTSTAMP:20260424T132115
CREATED:20240716T181300Z
LAST-MODIFIED:20240716T181300Z
UID:84-1727596800-1727629200@www.foerdervereinmve.de
SUMMARY:Test
DESCRIPTION:dsfdsf
URL:https://www.foerdervereinmve.de/event/test/
LOCATION:Kirche
END:VEVENT
END:VCALENDAR